BEGIN:VCALENDAR
VERSION:2.0
PRODID:-//Aunkai-bujutsu - ECPv5.5.0.1//NONSGML v1.0//EN
CALSCALE:GREGORIAN
METHOD:PUBLISH
X-WR-CALNAME:Aunkai-bujutsu
X-ORIGINAL-URL:http://aunkaibujutsulyon.com
X-WR-CALDESC:évènements pour Aunkai-bujutsu
BEGIN:VTIMEZONE
TZID:Europe/Paris
BEGIN:DAYLIGHT
TZOFFSETFROM:+0100
TZOFFSETTO:+0200
TZNAME:CEST
DTSTART:20190331T010000
END:DAYLIGHT
BEGIN:STANDARD
TZOFFSETFROM:+0200
TZOFFSETTO:+0100
TZNAME:CET
DTSTART:20191027T010000
END:STANDARD
END:VTIMEZONE
BEGIN:VEVENT
DTSTART;TZID=Europe/Paris:20191130T100000
DTEND;TZID=Europe/Paris:20191130T170000
DTSTAMP:20260420T162056
CREATED:20190723T173212Z
LAST-MODIFIED:20190725T091854Z
UID:8442-1575108000-1575133200@aunkaibujutsulyon.com
SUMMARY:Aunkai: Kiaz - Marseille - 30/11/19
DESCRIPTION:
URL:http://aunkaibujutsulyon.com/event/aunkai-kiaz-marseille-30-11-19/
LOCATION:Genki dojo\, 6 Boulevard Camille Flammarion\, Marseille\, 13001\, France
ATTACH;FMTTYPE=image/jpeg:http://aunkaibujutsulyon.com/wp-content/uploads/2019/07/Marseille-30_11_19.jpg
END:VEVENT
END:VCALENDAR